Package: msmsEDA Version: 1.47.0 Command: /Library/Frameworks/R.framework/Resources/bin/R CMD INSTALL msmsEDA StartedAt: 2025-05-04 15:35:23 -0400 (Sun, 04 May 2025) EndedAt: 2025-05-04 15:36:12 -0400 (Sun, 04 May 2025) EllapsedTime: 49.6 seconds RetCode: 0 Status: OK