Package: msmsEDA Version: 1.47.0 Command: /Library/Frameworks/R.framework/Resources/bin/R CMD build --keep-empty-dirs --no-resave-data msmsEDA StartedAt: 2025-05-06 17:36:44 -0400 (Tue, 06 May 2025) EndedAt: 2025-05-06 17:38:00 -0400 (Tue, 06 May 2025) EllapsedTime: 75.4 seconds RetCode: 0 Status: OK PackageFile: msmsEDA_1.47.0.tar.gz PackageFileSize: 439.4 KiB