Package: msmsEDA Version: 1.47.0 Maintainer: Josep Gregori MaintainerEmail: josep.gregori at gmail.com git_url: https://git.bioconductor.org/packages/msmsEDA git_branch: devel git_last_commit: 5a8009f git_last_commit_date: 2025-04-15 10:25:25 -0400 (Tue, 15 Apr 2025)