Package: mslp Version: 1.11.0 Command: /home/biocbuild/bbs-3.22-bioc/R/bin/R CMD build --keep-empty-dirs --no-resave-data --md5 mslp StartedAt: 2025-09-29 19:09:18 -0400 (Mon, 29 Sep 2025) EndedAt: 2025-09-29 19:09:50 -0400 (Mon, 29 Sep 2025) EllapsedTime: 32.0 seconds RetCode: 0 Status: OK PackageFile: mslp_1.11.0.tar.gz PackageFileSize: 408.9 KiB