Package: msgbsR Version: 1.31.0 Command: rm -rf msgbsR.buildbin-libdir && mkdir msgbsR.buildbin-libdir && /Users/biocbuild/BBS/utils/build-universal.sh msgbsR_1.31.0.tar.gz /Library/Frameworks/R.framework/Resources/bin/R msgbsR.buildbin-libdir StartedAt: 2025-02-20 00:43:05 -0500 (Thu, 20 Feb 2025) EndedAt: 2025-02-20 00:44:27 -0500 (Thu, 20 Feb 2025) EllapsedTime: 82.0 seconds RetCode: 0 Status: OK PackageFile: msgbsR_1.31.0.tgz PackageFileSize: 15.29 MiB