Package: msgbsR Version: 1.33.0 Maintainer: Benjamin Mayne MaintainerEmail: benjamin.mayne at adelaide.edu.au git_url: https://git.bioconductor.org/packages/msgbsR git_branch: devel git_last_commit: 2ace900 git_last_commit_date: 2025-04-15 11:11:15 -0400 (Tue, 15 Apr 2025)