Package: msa Version: 1.39.0 Command: /home/biocbuild/bbs-3.21-bioc/R/bin/R CMD build --keep-empty-dirs --no-resave-data msa StartedAt: 2025-02-03 18:25:59 -0500 (Mon, 03 Feb 2025) EndedAt: 2025-02-03 18:30:37 -0500 (Mon, 03 Feb 2025) EllapsedTime: 278.3 seconds RetCode: 0 Status: OK PackageFile: msa_1.39.0.tar.gz PackageFileSize: 3.893 MiB