Package: msa Version: 1.39.0 Command: /Library/Frameworks/R.framework/Resources/bin/R CMD INSTALL msa StartedAt: 2025-02-03 15:14:36 -0500 (Mon, 03 Feb 2025) EndedAt: 2025-02-03 15:21:18 -0500 (Mon, 03 Feb 2025) EllapsedTime: 402.5 seconds RetCode: 0 Status: OK