Package: msa Version: 1.39.0 Command: /home/biocbuild/R/R/bin/R CMD check --install=check:msa.install-out.txt --library=/home/biocbuild/R/R/site-library --no-vignettes --timings msa_1.39.0.tar.gz StartedAt: 2025-01-28 12:50:00 -0000 (Tue, 28 Jan 2025) EndedAt: 2025-01-28 12:52:00 -0000 (Tue, 28 Jan 2025) EllapsedTime: 120.1 seconds RetCode: 0 Status: WARNINGS CheckDir: msa.Rcheck Warnings: 2