Package: msa Version: 1.39.0 Command: /home/biocbuild/R/R/bin/R CMD build --keep-empty-dirs --no-resave-data msa StartedAt: 2025-01-29 00:37:28 -0000 (Wed, 29 Jan 2025) EndedAt: 2025-01-29 00:44:24 -0000 (Wed, 29 Jan 2025) EllapsedTime: 416.2 seconds RetCode: 0 Status: OK PackageFile: msa_1.39.0.tar.gz PackageFileSize: 3.954 MiB