Package: msPurity Version: 1.33.0 Command: /Library/Frameworks/R.framework/Resources/bin/R CMD INSTALL msPurity StartedAt: 2025-02-03 15:42:06 -0500 (Mon, 03 Feb 2025) EndedAt: 2025-02-03 15:42:11 -0500 (Mon, 03 Feb 2025) EllapsedTime: 4.7 seconds RetCode: 0 Status: OK