Package: msPurity Version: 1.33.0 Command: /Library/Frameworks/R.framework/Resources/bin/R CMD check --install=check:msPurity.install-out.txt --library=/Library/Frameworks/R.framework/Resources/library --no-vignettes --timings msPurity_1.33.0.tar.gz StartedAt: 2025-01-31 20:21:50 -0500 (Fri, 31 Jan 2025) EndedAt: 2025-01-31 20:26:03 -0500 (Fri, 31 Jan 2025) EllapsedTime: 253.0 seconds RetCode: 1 Status: ERROR CheckDir: msPurity.Rcheck Warnings: NA