Package: msImpute Version: 1.19.0 Command: /home/biocbuild/bbs-3.22-bioc/R/bin/R CMD INSTALL msImpute StartedAt: 2025-10-24 16:06:37 -0400 (Fri, 24 Oct 2025) EndedAt: 2025-10-24 16:07:04 -0400 (Fri, 24 Oct 2025) EllapsedTime: 27.7 seconds RetCode: 0 Status: OK