Package: msImpute Version: 1.19.0 Command: /Library/Frameworks/R.framework/Resources/bin/R CMD INSTALL msImpute StartedAt: 2025-05-06 15:47:03 -0400 (Tue, 06 May 2025) EndedAt: 2025-05-06 15:47:41 -0400 (Tue, 06 May 2025) EllapsedTime: 38.1 seconds RetCode: 0 Status: OK