Package: msImpute Version: 1.19.0 Command: /Library/Frameworks/R.framework/Resources/bin/R CMD INSTALL msImpute StartedAt: 2025-05-08 15:30:40 -0400 (Thu, 08 May 2025) EndedAt: 2025-05-08 15:30:53 -0400 (Thu, 08 May 2025) EllapsedTime: 12.3 seconds RetCode: 0 Status: OK