Package: mpra Version: 1.31.0 Command: rm -rf mpra.buildbin-libdir && mkdir mpra.buildbin-libdir && F:\biocbuild\bbs-3.22-bioc\R\bin\R.exe CMD INSTALL --build --library=mpra.buildbin-libdir mpra_1.31.0.tar.gz StartedAt: 2025-08-15 10:45:44 -0400 (Fri, 15 Aug 2025) EndedAt: 2025-08-15 10:46:18 -0400 (Fri, 15 Aug 2025) EllapsedTime: 33.8 seconds RetCode: 0 Status: OK PackageFile: mpra_1.31.0.zip PackageFileSize: 3.179 MiB