Package: mpra Version: 1.29.0 Command: E:\biocbuild\bbs-3.21-bioc\R\bin\R.exe CMD INSTALL mpra StartedAt: 2025-02-05 15:49:31 -0500 (Wed, 05 Feb 2025) EndedAt: 2025-02-05 15:50:00 -0500 (Wed, 05 Feb 2025) EllapsedTime: 28.9 seconds RetCode: 0 Status: OK