Package: mpra Version: 1.29.0 Command: E:\biocbuild\bbs-3.21-bioc\R\bin\R.exe CMD check --no-multiarch --install=check:mpra.install-out.txt --library=E:\biocbuild\bbs-3.21-bioc\R\library --no-vignettes --timings mpra_1.29.0.tar.gz StartedAt: 2025-02-03 03:03:29 -0500 (Mon, 03 Feb 2025) EndedAt: 2025-02-03 03:06:54 -0500 (Mon, 03 Feb 2025) EllapsedTime: 205.1 seconds RetCode: 0 Status: OK CheckDir: mpra.Rcheck Warnings: 0