Package: mpra Version: 1.29.0 Command: chmod a+r mpra -R && E:\biocbuild\bbs-3.21-bioc\R\bin\R.exe CMD build --keep-empty-dirs --no-resave-data mpra StartedAt: 2025-02-05 20:11:50 -0500 (Wed, 05 Feb 2025) EndedAt: 2025-02-05 20:13:45 -0500 (Wed, 05 Feb 2025) EllapsedTime: 115.2 seconds RetCode: 0 Status: OK PackageFile: mpra_1.29.0.tar.gz PackageFileSize: 2.955 MiB