Package: mpra Version: 1.29.0 Command: /Library/Frameworks/R.framework/Resources/bin/R CMD build --keep-empty-dirs --no-resave-data mpra StartedAt: 2025-02-03 17:34:24 -0500 (Mon, 03 Feb 2025) EndedAt: 2025-02-03 17:35:27 -0500 (Mon, 03 Feb 2025) EllapsedTime: 62.9 seconds RetCode: 0 Status: OK PackageFile: mpra_1.29.0.tar.gz PackageFileSize: 3.329 MiB