Package: mpra Version: 1.31.0 Maintainer: Leslie Myint MaintainerEmail: leslie.myint at gmail.com git_url: https://git.bioconductor.org/packages/mpra git_branch: devel git_last_commit: 5f83e44 git_last_commit_date: 2025-04-15 11:16:01 -0400 (Tue, 15 Apr 2025)