Package: motifmatchr Version: 1.31.1 Command: chmod a+r motifmatchr -R && F:\biocbuild\bbs-3.22-bioc\R\bin\R.exe CMD build --keep-empty-dirs --no-resave-data motifmatchr StartedAt: 2025-08-14 21:39:35 -0400 (Thu, 14 Aug 2025) EndedAt: 2025-08-14 21:44:07 -0400 (Thu, 14 Aug 2025) EllapsedTime: 271.1 seconds RetCode: 0 Status: OK PackageFile: motifmatchr_1.31.1.tar.gz PackageFileSize: 51.82 KiB