Package: motifcounter Version: 1.33.0 Command: /home/biocbuild/bbs-3.22-bioc/R/bin/R CMD INSTALL motifcounter StartedAt: 2025-10-20 15:14:51 -0400 (Mon, 20 Oct 2025) EndedAt: 2025-10-20 15:15:02 -0400 (Mon, 20 Oct 2025) EllapsedTime: 11.7 seconds RetCode: 0 Status: OK