Package: motifcounter Version: 1.31.0 Command: /home/biocbuild/bbs-3.21-bioc/R/bin/R CMD build --keep-empty-dirs --no-resave-data motifcounter StartedAt: 2025-02-03 18:24:25 -0500 (Mon, 03 Feb 2025) EndedAt: 2025-02-03 18:25:26 -0500 (Mon, 03 Feb 2025) EllapsedTime: 61.1 seconds RetCode: 0 Status: OK PackageFile: motifcounter_1.31.0.tar.gz PackageFileSize: 557.5 KiB