Package: motifcounter Version: 1.31.0 Command: /home/biocbuild/R/R/bin/R CMD INSTALL motifcounter StartedAt: 2025-01-29 19:41:00 -0000 (Wed, 29 Jan 2025) EndedAt: 2025-01-29 19:41:18 -0000 (Wed, 29 Jan 2025) EllapsedTime: 18.0 seconds RetCode: 0 Status: OK