Package: motifcounter Version: 1.31.0 Command: /home/biocbuild/R/R/bin/R CMD check --install=check:motifcounter.install-out.txt --library=/home/biocbuild/R/R/site-library --no-vignettes --timings motifcounter_1.31.0.tar.gz StartedAt: 2025-01-28 12:44:37 -0000 (Tue, 28 Jan 2025) EndedAt: 2025-01-28 12:49:55 -0000 (Tue, 28 Jan 2025) EllapsedTime: 318.4 seconds RetCode: 1 Status: ERROR CheckDir: motifcounter.Rcheck Warnings: NA