Package: motifbreakR Version: 2.23.0 Command: chmod a+r motifbreakR -R && F:\biocbuild\bbs-3.22-bioc\R\bin\R.exe CMD build --keep-empty-dirs --no-resave-data motifbreakR StartedAt: 2025-08-14 21:38:37 -0400 (Thu, 14 Aug 2025) EndedAt: 2025-08-14 21:52:00 -0400 (Thu, 14 Aug 2025) EllapsedTime: 802.5 seconds RetCode: 0 Status: OK PackageFile: motifbreakR_2.23.0.tar.gz PackageFileSize: 2.046 MiB