Package: motifbreakR Version: 2.21.0 Command: /Library/Frameworks/R.framework/Resources/bin/R CMD INSTALL motifbreakR StartedAt: 2025-02-03 15:34:20 -0500 (Mon, 03 Feb 2025) EndedAt: 2025-02-03 15:35:50 -0500 (Mon, 03 Feb 2025) EllapsedTime: 90.0 seconds RetCode: 0 Status: OK