Package: motifbreakR Version: 2.21.0 Command: /home/biocbuild/R/R/bin/R CMD check --install=check:motifbreakR.install-out.txt --library=/home/biocbuild/R/R/site-library --no-vignettes --timings motifbreakR_2.21.0.tar.gz StartedAt: 2025-01-28 12:44:16 -0000 (Tue, 28 Jan 2025) EndedAt: 2025-01-28 13:00:12 -0000 (Tue, 28 Jan 2025) EllapsedTime: 955.3 seconds RetCode: 0 Status: WARNINGS CheckDir: motifbreakR.Rcheck Warnings: 5