Package: motifbreakR Version: 2.21.0 Command: /home/biocbuild/R/R/bin/R CMD build --keep-empty-dirs --no-resave-data motifbreakR StartedAt: 2025-01-29 00:32:21 -0000 (Wed, 29 Jan 2025) EndedAt: 2025-01-29 00:41:08 -0000 (Wed, 29 Jan 2025) EllapsedTime: 527.2 seconds RetCode: 0 Status: OK PackageFile: motifbreakR_2.21.0.tar.gz PackageFileSize: 2.055 MiB