Package: motifStack Version: 1.53.0 Command: /home/biocbuild/R/R/bin/R CMD INSTALL motifStack StartedAt: 2025-10-16 22:16:52 -0000 (Thu, 16 Oct 2025) EndedAt: 2025-10-16 22:17:56 -0000 (Thu, 16 Oct 2025) EllapsedTime: 63.6 seconds RetCode: 0 Status: OK