Package: motifStack Version: 1.53.0 Command: /home/biocbuild/R/R/bin/R CMD build --keep-empty-dirs --no-resave-data motifStack StartedAt: 2025-10-17 02:54:47 -0000 (Fri, 17 Oct 2025) EndedAt: 2025-10-17 02:57:43 -0000 (Fri, 17 Oct 2025) EllapsedTime: 176.0 seconds RetCode: 0 Status: OK PackageFile: motifStack_1.53.0.tar.gz PackageFileSize: 1.271 MiB