Package: mosdef Version: 1.3.1 Command: /Library/Frameworks/R.framework/Resources/bin/R CMD INSTALL mosdef StartedAt: 2025-02-03 15:38:27 -0500 (Mon, 03 Feb 2025) EndedAt: 2025-02-03 15:39:28 -0500 (Mon, 03 Feb 2025) EllapsedTime: 61.3 seconds RetCode: 0 Status: OK