Package: mosbi Version: 1.13.0 Command: chmod a+r mosbi -R && E:\biocbuild\bbs-3.21-bioc\R\bin\R.exe CMD build --keep-empty-dirs --no-resave-data mosbi StartedAt: 2025-02-10 20:14:49 -0500 (Mon, 10 Feb 2025) EndedAt: 2025-02-10 20:19:08 -0500 (Mon, 10 Feb 2025) EllapsedTime: 258.8 seconds RetCode: 0 Status: OK PackageFile: mosbi_1.13.0.tar.gz PackageFileSize: 1.1 MiB