Package: mosbi Version: 1.15.0 Command: /home/biocbuild/bbs-3.22-bioc/R/bin/R CMD INSTALL mosbi StartedAt: 2025-10-12 15:12:09 -0400 (Sun, 12 Oct 2025) EndedAt: 2025-10-12 15:13:20 -0400 (Sun, 12 Oct 2025) EllapsedTime: 71.2 seconds RetCode: 0 Status: OK