Package: mosbi Version: 1.13.0 Command: _R_CHECK_FORCE_SUGGESTS_=0 /Library/Frameworks/R.framework/Resources/bin/R CMD check --install=check:mosbi.install-out.txt --library=/Library/Frameworks/R.framework/Resources/library --no-vignettes --timings mosbi_1.13.0.tar.gz StartedAt: 2025-02-10 22:23:16 -0500 (Mon, 10 Feb 2025) EndedAt: 2025-02-10 22:23:59 -0500 (Mon, 10 Feb 2025) EllapsedTime: 42.4 seconds RetCode: 0 Status: WARNINGS CheckDir: mosbi.Rcheck Warnings: 1