Package: mosbi Version: 1.13.0 Command: /Library/Frameworks/R.framework/Resources/bin/R CMD build --keep-empty-dirs --no-resave-data mosbi StartedAt: 2025-02-10 17:26:56 -0500 (Mon, 10 Feb 2025) EndedAt: 2025-02-10 17:29:37 -0500 (Mon, 10 Feb 2025) EllapsedTime: 160.7 seconds RetCode: 0 Status: OK PackageFile: mosbi_1.13.0.tar.gz PackageFileSize: 2.665 MiB