Package: mosbi Version: 1.13.0 Command: /Library/Frameworks/R.framework/Resources/bin/R CMD build --keep-empty-dirs --no-resave-data mosbi StartedAt: 2025-02-09 17:00:31 -0500 (Sun, 09 Feb 2025) EndedAt: 2025-02-09 17:00:57 -0500 (Sun, 09 Feb 2025) EllapsedTime: 26.3 seconds RetCode: 0 Status: OK PackageFile: mosbi_1.13.0.tar.gz PackageFileSize: 2.608 MiB