Package: mosbi Version: 1.13.0 Command: rm -rf mosbi.buildbin-libdir && mkdir mosbi.buildbin-libdir && /Users/biocbuild/BBS/utils/build-universal.sh mosbi_1.13.0.tar.gz /Library/Frameworks/R.framework/Resources/bin/R mosbi.buildbin-libdir StartedAt: 2025-02-04 22:23:44 -0500 (Tue, 04 Feb 2025) EndedAt: 2025-02-04 22:24:05 -0500 (Tue, 04 Feb 2025) EllapsedTime: 20.3 seconds RetCode: 0 Status: OK PackageFile: mosbi_1.13.0.tgz PackageFileSize: 2.976 MiB