Package: mosaics Version: 2.47.1 Command: /home/biocbuild/bbs-3.22-bioc/R/bin/R CMD INSTALL mosaics StartedAt: 2025-10-24 15:36:21 -0400 (Fri, 24 Oct 2025) EndedAt: 2025-10-24 15:37:07 -0400 (Fri, 24 Oct 2025) EllapsedTime: 46.3 seconds RetCode: 0 Status: OK