Package: mosaics Version: 2.47.0 Command: rm -rf mosaics.buildbin-libdir && mkdir mosaics.buildbin-libdir && /Users/biocbuild/BBS/utils/build-universal.sh mosaics_2.47.0.tar.gz /Library/Frameworks/R.framework/Resources/bin/R mosaics.buildbin-libdir StartedAt: 2025-05-07 00:53:27 -0400 (Wed, 07 May 2025) EndedAt: 2025-05-07 00:54:34 -0400 (Wed, 07 May 2025) EllapsedTime: 66.6 seconds RetCode: 0 Status: OK PackageFile: mosaics_2.47.0.tgz PackageFileSize: 1.838 MiB