Package: monocle Version: 2.37.0 Command: rm -rf monocle.buildbin-libdir && mkdir monocle.buildbin-libdir && /Users/biocbuild/BBS/utils/build-universal.sh monocle_2.37.0.tar.gz /Library/Frameworks/R.framework/Resources/bin/R monocle.buildbin-libdir StartedAt: 2025-05-07 00:53:25 -0400 (Wed, 07 May 2025) EndedAt: 2025-05-07 00:53:57 -0400 (Wed, 07 May 2025) EllapsedTime: 32.3 seconds RetCode: 0 Status: OK PackageFile: monocle_2.37.0.tgz PackageFileSize: 1.444 MiB