Package: monocle Version: 2.37.0 Command: /Library/Frameworks/R.framework/Resources/bin/R CMD build --keep-empty-dirs --no-resave-data monocle StartedAt: 2025-05-08 17:02:22 -0400 (Thu, 08 May 2025) EndedAt: 2025-05-08 17:02:35 -0400 (Thu, 08 May 2025) EllapsedTime: 13.1 seconds RetCode: 0 Status: OK PackageFile: monocle_2.37.0.tar.gz PackageFileSize: 9.006 MiB