Package: monaLisa Version: 1.15.3 Command: /home/biocbuild/bbs-3.22-bioc/R/bin/R CMD INSTALL monaLisa StartedAt: 2025-10-17 15:50:34 -0400 (Fri, 17 Oct 2025) EndedAt: 2025-10-17 15:51:16 -0400 (Fri, 17 Oct 2025) EllapsedTime: 42.7 seconds RetCode: 0 Status: OK