Package: monaLisa Version: 1.15.3 Command: /home/biocbuild/bbs-3.22-bioc/R/bin/R CMD build --keep-empty-dirs --no-resave-data --md5 monaLisa StartedAt: 2025-10-17 18:44:14 -0400 (Fri, 17 Oct 2025) EndedAt: 2025-10-17 18:48:37 -0400 (Fri, 17 Oct 2025) EllapsedTime: 263.2 seconds RetCode: 0 Status: OK PackageFile: monaLisa_1.15.3.tar.gz PackageFileSize: 5.978 MiB