Package: monaLisa Version: 1.13.2 Command: /Library/Frameworks/R.framework/Resources/bin/R CMD build --keep-empty-dirs --no-resave-data monaLisa StartedAt: 2025-02-03 17:30:27 -0500 (Mon, 03 Feb 2025) EndedAt: 2025-02-03 17:36:01 -0500 (Mon, 03 Feb 2025) EllapsedTime: 334.2 seconds RetCode: 0 Status: OK PackageFile: monaLisa_1.13.2.tar.gz PackageFileSize: 6.094 MiB