Package: monaLisa Version: 1.13.2 Command: /home/biocbuild/R/R/bin/R CMD INSTALL monaLisa StartedAt: 2025-01-29 20:22:08 -0000 (Wed, 29 Jan 2025) EndedAt: 2025-01-29 20:23:11 -0000 (Wed, 29 Jan 2025) EllapsedTime: 62.9 seconds RetCode: 0 Status: OK