Package: monaLisa Version: 1.13.2 Command: /home/biocbuild/R/R/bin/R CMD build --keep-empty-dirs --no-resave-data monaLisa StartedAt: 2025-01-29 00:29:59 -0000 (Wed, 29 Jan 2025) EndedAt: 2025-01-29 00:36:11 -0000 (Wed, 29 Jan 2025) EllapsedTime: 372.1 seconds RetCode: 0 Status: OK PackageFile: monaLisa_1.13.2.tar.gz PackageFileSize: 4.276 MiB