Package: monaLisa Version: 1.13.2 Command: rm -rf monaLisa.buildbin-libdir && mkdir monaLisa.buildbin-libdir && /Users/biocbuild/BBS/utils/build-universal.sh monaLisa_1.13.2.tar.gz /Library/Frameworks/R.framework/Resources/bin/R monaLisa.buildbin-libdir StartedAt: 2025-02-03 22:57:36 -0500 (Mon, 03 Feb 2025) EndedAt: 2025-02-03 22:57:57 -0500 (Mon, 03 Feb 2025) EllapsedTime: 20.3 seconds RetCode: 0 Status: OK PackageFile: monaLisa_1.13.2.tgz PackageFileSize: 6.275 MiB