Package: mogsa Version: 1.41.0 Command: /Library/Frameworks/R.framework/Resources/bin/R CMD INSTALL mogsa StartedAt: 2025-02-03 15:55:00 -0500 (Mon, 03 Feb 2025) EndedAt: 2025-02-03 15:55:09 -0500 (Mon, 03 Feb 2025) EllapsedTime: 9.2 seconds RetCode: 0 Status: OK